BEGIN:VCALENDAR
VERSION:2.0
PRODID:-//Kirtland Force Support - ECPv6.15.20//NONSGML v1.0//EN
CALSCALE:GREGORIAN
METHOD:PUBLISH
X-WR-CALNAME:Kirtland Force Support
X-ORIGINAL-URL:https://kirtlandforcesupport.com
X-WR-CALDESC:Events for Kirtland Force Support
REFRESH-INTERVAL;VALUE=DURATION:PT1H
X-Robots-Tag:noindex
X-PUBLISHED-TTL:PT1H
BEGIN:VTIMEZONE
TZID:UTC
BEGIN:STANDARD
TZOFFSETFROM:+0000
TZOFFSETTO:+0000
TZNAME:UTC
DTSTART:20250101T000000
END:STANDARD
END:VTIMEZONE
BEGIN:VEVENT
DTSTART;TZID=UTC:20260421T150000
DTEND;TZID=UTC:20260421T210000
DTSTAMP:20260421T124911
CREATED:20240613T150531Z
LAST-MODIFIED:20260106T202454Z
UID:10001440-1776783600-1776805200@kirtlandforcesupport.com
SUMMARY:$2 Tuesdays
DESCRIPTION:Every Tue after 3 p.m.\, $2 per game\n$2 shoe rental
URL:https://kirtlandforcesupport.com/event/2-tuesdays/2026-04-21/
LOCATION:Bowling Center\, 3C4V+27 Albuquerque\, New Mexico
CATEGORIES:Bowling Center
ATTACH;FMTTYPE=image/jpeg:https://kirtlandforcesupport.com/wp-content/uploads/2024/06/2-tuesdays.jpg
END:VEVENT
BEGIN:VEVENT
DTSTART;TZID=UTC:20260421T163000
DTEND;TZID=UTC:20260421T190000
DTSTAMP:20260421T124911
CREATED:20260330T221627Z
LAST-MODIFIED:20260330T221627Z
UID:10002382-1776789000-1776798000@kirtlandforcesupport.com
SUMMARY:
DESCRIPTION:🌟 Join Us for Dutch Oven Cooking Workshops! 🌟 \nAre you a camping enthusiast who loves cooking over an open fire? 🔥 Join us on April 7 & 21 from 4:30 p.m. to 7:00 p.m. for a hands-on experience in Dutch oven cooking!\nFor just $10 per person\, you’ll learn delicious recipes perfect for your next campsite kitchen adventure. We’ll cover menu planning\, food prep\, and the best techniques for cooking with a Dutch oven. And of course\, you’ll get to enjoy the tasty results! 🍽️\n👨‍👩‍👧‍👦 All ages are welcome! \nAsk the front desk for the next workshop’s recipe and get ready to elevate your outdoor cooking game! \nSIGN UP HERE \n 
URL:https://kirtlandforcesupport.com/event/23613/2026-04-21/
LOCATION:NM
CATEGORIES:ODR
ATTACH;FMTTYPE=image/jpeg:https://kirtlandforcesupport.com/wp-content/uploads/2026/03/dutch-oven-workshops.jpeg
END:VEVENT
BEGIN:VEVENT
DTSTART;TZID=UTC:20260422T090000
DTEND;TZID=UTC:20260422T120000
DTSTAMP:20260421T124911
CREATED:20260402T173801Z
LAST-MODIFIED:20260402T173801Z
UID:10002389-1776848400-1776859200@kirtlandforcesupport.com
SUMMARY:Kid Friendly Bosque Hike
DESCRIPTION:We’ll go for a short 1-2 mile walk in the bosque in spring. With any luck we’ll see some critters and cool plants.  \n$5 per person; Includes transportation; All ages; Maximum 14 participants  \nSIGN UP HERE
URL:https://kirtlandforcesupport.com/event/kid-friendly-bosque-hike/
LOCATION:NM
CATEGORIES:ODR
ATTACH;FMTTYPE=image/jpeg:https://kirtlandforcesupport.com/wp-content/uploads/2026/03/kid-bosque.jpeg
END:VEVENT
BEGIN:VEVENT
DTSTART;TZID=UTC:20260422T130000
DTEND;TZID=UTC:20260422T180000
DTSTAMP:20260421T124911
CREATED:20240613T161300Z
LAST-MODIFIED:20260107T201759Z
UID:10001441-1776862800-1776880800@kirtlandforcesupport.com
SUMMARY:P3 Special: Pizza\, Pop & Pins
DESCRIPTION:$30\nIncludes 4 pair of shoes\, 1 hour of bowling\, 4 fountain drinks\, and one-topping pizza.
URL:https://kirtlandforcesupport.com/event/p3-special-pins-pizza-pop/2026-04-22/
LOCATION:Bowling Center\, 3C4V+27 Albuquerque\, New Mexico
CATEGORIES:Bowling Center
ATTACH;FMTTYPE=image/png:https://kirtlandforcesupport.com/wp-content/uploads/2024/06/Untitled-2.png
END:VEVENT
BEGIN:VEVENT
DTSTART;TZID=UTC:20260422T130000
DTEND;TZID=UTC:20260422T183000
DTSTAMP:20260421T124911
CREATED:20260403T192436Z
LAST-MODIFIED:20260403T192436Z
UID:10002400-1776862800-1776882600@kirtlandforcesupport.com
SUMMARY:PURPLE UP - Tie dye T-Shirt
DESCRIPTION:Register for a time slot :  (1:00-2:00); (2:00-3:00); (3:00-4:00); (5:30-6:30) NO WALK INS PLEASE! Adults are welcome to bring own shirts to dye!  Parents are required to stay with child(ren) participating.   \nAges 0-18\, FREE \nRegistration 505.853.3003
URL:https://kirtlandforcesupport.com/event/purple-up-tie-dye-t-shirt/2026-04-22/
LOCATION:Arts & Crafts Center\, 8001 Gibson Boulevard Southeast BLDG 20170\, Kirtland AFB\, NM 87117
CATEGORIES:Arts & Crafts Center
ATTACH;FMTTYPE=image/jpeg:https://kirtlandforcesupport.com/wp-content/uploads/2026/04/Purple-Up-Arts-And-Crafts-social-media-scaled.jpg
END:VEVENT
BEGIN:VEVENT
DTSTART;TZID=UTC:20260423T130000
DTEND;TZID=UTC:20260423T183000
DTSTAMP:20260421T124911
CREATED:20260403T192436Z
LAST-MODIFIED:20260403T192436Z
UID:10002401-1776949200-1776969000@kirtlandforcesupport.com
SUMMARY:PURPLE UP - Tie dye T-Shirt
DESCRIPTION:Register for a time slot :  (1:00-2:00); (2:00-3:00); (3:00-4:00); (5:30-6:30) NO WALK INS PLEASE! Adults are welcome to bring own shirts to dye!  Parents are required to stay with child(ren) participating.   \nAges 0-18\, FREE \nRegistration 505.853.3003
URL:https://kirtlandforcesupport.com/event/purple-up-tie-dye-t-shirt/2026-04-23/
LOCATION:Arts & Crafts Center\, 8001 Gibson Boulevard Southeast BLDG 20170\, Kirtland AFB\, NM 87117
CATEGORIES:Arts & Crafts Center
ATTACH;FMTTYPE=image/jpeg:https://kirtlandforcesupport.com/wp-content/uploads/2026/04/Purple-Up-Arts-And-Crafts-social-media-scaled.jpg
END:VEVENT
BEGIN:VEVENT
DTSTART;TZID=UTC:20260424T120000
DTEND;TZID=UTC:20260424T160000
DTSTAMP:20260421T124911
CREATED:20260406T184159Z
LAST-MODIFIED:20260406T184159Z
UID:10002418-1777032000-1777046400@kirtlandforcesupport.com
SUMMARY:Custom Fitting Day
DESCRIPTION:Join us for Custom #Fitting Day and get dialed in with the #Callaway Quantum driver\, powered by the revolutionary TriForce Face for next‑level performance \n\n\nScan the QR code to sign up\nOR click here \nhttp://process.callawaygolf.com/CgiServices/Fitting…
URL:https://kirtlandforcesupport.com/event/custom-fitting-day/
LOCATION:NM
CATEGORIES:Golf
ATTACH;FMTTYPE=image/png:https://kirtlandforcesupport.com/wp-content/uploads/2026/04/Custom-Fitting-Day.png
END:VEVENT
BEGIN:VEVENT
DTSTART;TZID=UTC:20260424T160000
DTEND;TZID=UTC:20260425T120000
DTSTAMP:20260421T124911
CREATED:20260402T180310Z
LAST-MODIFIED:20260402T180310Z
UID:10002390-1777046400-1777118400@kirtlandforcesupport.com
SUMMARY:Hermit Peak Sunrise At The Summit
DESCRIPTION:We’ll head up the Hermit Peak Trail on Friday evening and set up camp for an amazing sunrise from the summit before packing up and heading back down the trail. It’s a steep trail\, so be ready for a tough hike in. Food not provided\, so bring your own meals.  \n $65 if using ODR gear\, $35 is using personal gear; Includes camping gear\, transportation\, staffing; Ages 12+\, Maximum 10 participants 
URL:https://kirtlandforcesupport.com/event/hermit-peak-sunrise-at-the-summit/
LOCATION:NM
CATEGORIES:ODR
ATTACH;FMTTYPE=image/jpeg:https://kirtlandforcesupport.com/wp-content/uploads/2026/04/Untitled-6-3.jpeg
END:VEVENT
BEGIN:VEVENT
DTSTART;TZID=UTC:20260424T180000
DTEND;TZID=UTC:20260424T210000
DTSTAMP:20260421T124911
CREATED:20240613T162324Z
LAST-MODIFIED:20260106T225728Z
UID:10001442-1777053600-1777064400@kirtlandforcesupport.com
SUMMARY:Cosmic Bowling
DESCRIPTION:$25/hr\nWe turn the lights off\, turn the black lights on\, and the music up! Join us every Friday and Saturday night for out-of-this-world fun!
URL:https://kirtlandforcesupport.com/event/cosmic-bowling/2026-04-24/
LOCATION:Bowling Center\, 3C4V+27 Albuquerque\, New Mexico
CATEGORIES:Bowling Center
ATTACH;FMTTYPE=image/jpeg:https://kirtlandforcesupport.com/wp-content/uploads/2024/06/cosmic-bowling.jpg
END:VEVENT
BEGIN:VEVENT
DTSTART;TZID=UTC:20260425T090000
DTEND;TZID=UTC:20260425T120000
DTSTAMP:20260421T124911
CREATED:20260406T171412Z
LAST-MODIFIED:20260406T171412Z
UID:10002409-1777107600-1777118400@kirtlandforcesupport.com
SUMMARY:CERAMIC SATURDAY
DESCRIPTION:Various price points offered. Ever been to a DIY pottery glazing studio?  Do you remember what you paid for it?  We offer the same thing\, but at a fraction of the price! No registration required.  Please allow 45 min.-1 hr. min. for glazing each item.  Take home kits available.  \n  \nRegistration (505.853.3003) required at least (1) business day before class. Payment due at registration.  Class credit only for cancellation.  No refunds. 
URL:https://kirtlandforcesupport.com/event/ceramic-saturday/
LOCATION:Arts & Crafts Center\, 8001 Gibson Boulevard Southeast BLDG 20170\, Kirtland AFB\, NM 87117
CATEGORIES:Arts & Crafts Center
ATTACH;FMTTYPE=image/jpeg:https://kirtlandforcesupport.com/wp-content/uploads/2026/04/Untitled-1.jpeg
END:VEVENT
BEGIN:VEVENT
DTSTART;TZID=UTC:20260425T110000
DTEND;TZID=UTC:20260425T130000
DTSTAMP:20260421T124911
CREATED:20260406T183120Z
LAST-MODIFIED:20260406T183120Z
UID:10002417-1777114800-1777122000@kirtlandforcesupport.com
SUMMARY:ac check and recharge workshop
DESCRIPTION:
URL:https://kirtlandforcesupport.com/event/ac-check-and-recharge-workshop-2/
LOCATION:Auto Hobby Shop\, 2051 Texas ST SE Bldg. 20375\, Albuquerque\, NM\, 87108\, United States
CATEGORIES:Auto Hobby Shop
ATTACH;FMTTYPE=image/png:https://kirtlandforcesupport.com/wp-content/uploads/2026/04/Auto-Hobby.png
END:VEVENT
BEGIN:VEVENT
DTSTART;TZID=UTC:20260425T180000
DTEND;TZID=UTC:20260425T210000
DTSTAMP:20260421T124911
CREATED:20240613T162324Z
LAST-MODIFIED:20260106T225728Z
UID:10001443-1777140000-1777150800@kirtlandforcesupport.com
SUMMARY:Cosmic Bowling
DESCRIPTION:$25/hr\nWe turn the lights off\, turn the black lights on\, and the music up! Join us every Friday and Saturday night for out-of-this-world fun!
URL:https://kirtlandforcesupport.com/event/cosmic-bowling/2026-04-25/
LOCATION:Bowling Center\, 3C4V+27 Albuquerque\, New Mexico
CATEGORIES:Bowling Center
ATTACH;FMTTYPE=image/jpeg:https://kirtlandforcesupport.com/wp-content/uploads/2024/06/cosmic-bowling.jpg
END:VEVENT
BEGIN:VEVENT
DTSTART;TZID=UTC:20260426T073000
DTEND;TZID=UTC:20260426T123000
DTSTAMP:20260421T124911
CREATED:20260402T180820Z
LAST-MODIFIED:20260402T180820Z
UID:10002391-1777188600-1777206600@kirtlandforcesupport.com
SUMMARY:Bosque Biking in the Springtime
DESCRIPTION:Come along with ODR for an 11-mile ride in the Bosque\, perfect for people trying out a bike ride or for those who want a group to ride with. We’ll ride from the Alameda trailhead down to the Rio Grande Nature Center and back. Bring snacks and water!  \n$30 per person; Includes bike\, transportation\, staffing; All Ages; Maximum 10 participants  \nSIGN UP HERE  \n 
URL:https://kirtlandforcesupport.com/event/bosque-biking-in-the-springtime/
LOCATION:NM
CATEGORIES:ODR
ATTACH;FMTTYPE=image/jpeg:https://kirtlandforcesupport.com/wp-content/uploads/2026/04/Untitled-7-2.jpeg
END:VEVENT
BEGIN:VEVENT
DTSTART;TZID=UTC:20260426T130000
DTEND;TZID=UTC:20260426T190000
DTSTAMP:20260421T124911
CREATED:20240613T150119Z
LAST-MODIFIED:20260107T202953Z
UID:10001444-1777208400-1777230000@kirtlandforcesupport.com
SUMMARY:Family Funday Sunday
DESCRIPTION:$30/Family of 4\nIncludes 4 pair of shoes\, 1 hour of bowling\, 4 fountain drinks\, and 1-topping pizza!\n3C4V+27 Albuquerque\, New Mexico
URL:https://kirtlandforcesupport.com/event/family-funday-sunday/2026-04-26/
LOCATION:Bowling Center\, 3C4V+27 Albuquerque\, New Mexico
CATEGORIES:Bowling Center
ATTACH;FMTTYPE=image/png:https://kirtlandforcesupport.com/wp-content/uploads/2024/06/Untitled-5.png
END:VEVENT
BEGIN:VEVENT
DTSTART;TZID=UTC:20260427T171500
DTEND;TZID=UTC:20260427T191500
DTSTAMP:20260421T124911
CREATED:20260406T171546Z
LAST-MODIFIED:20260406T171546Z
UID:10002410-1777310100-1777317300@kirtlandforcesupport.com
SUMMARY:Intro to Pottery Wheel
DESCRIPTION:$30 /FREE for AD AND RESERVE   Ages 12+  All beginner levels welcome.  (2) week minimum dry time for clay before firing.  All clay\, firing and glaze included. Limited class size.\nRegistration (505.853.3003) required at least (1) business day before class. Payment due at registration.  Class credit only for cancellation.  No refunds. 
URL:https://kirtlandforcesupport.com/event/intro-to-pottery-wheel-4/
LOCATION:Arts & Crafts Center\, 8001 Gibson Boulevard Southeast BLDG 20170\, Kirtland AFB\, NM 87117
CATEGORIES:Arts & Crafts Center
ATTACH;FMTTYPE=image/jpeg:https://kirtlandforcesupport.com/wp-content/uploads/2026/04/Untitled-1.jpeg
END:VEVENT
BEGIN:VEVENT
DTSTART;TZID=UTC:20260428T130000
DTEND;TZID=UTC:20260428T143000
DTSTAMP:20260421T124911
CREATED:20260406T172156Z
LAST-MODIFIED:20260406T172156Z
UID:10002411-1777381200-1777386600@kirtlandforcesupport.com
SUMMARY:Intro to Candle Making
DESCRIPTION:Registration (505.853.3003) required at least (1) business day before class. Payment due at registration.  Class credit only for cancellation.  No refunds.  \n$20  Ages 18+ Candle wax is paraffin.  Containers are provided\, however\, participants are encouraged to upcycle their own metal\, glass and ceramic containers into unique candles.  Shot glasses are great!
URL:https://kirtlandforcesupport.com/event/intro-to-candle-making/2026-04-28/1/
LOCATION:Arts & Crafts Center\, 8001 Gibson Boulevard Southeast BLDG 20170\, Kirtland AFB\, NM 87117
CATEGORIES:Arts & Crafts Center
ATTACH;FMTTYPE=image/jpeg:https://kirtlandforcesupport.com/wp-content/uploads/2026/04/Untitled-1.jpeg
END:VEVENT
BEGIN:VEVENT
DTSTART;TZID=UTC:20260428T150000
DTEND;TZID=UTC:20260428T210000
DTSTAMP:20260421T124911
CREATED:20240613T150531Z
LAST-MODIFIED:20260106T202454Z
UID:10001445-1777388400-1777410000@kirtlandforcesupport.com
SUMMARY:$2 Tuesdays
DESCRIPTION:Every Tue after 3 p.m.\, $2 per game\n$2 shoe rental
URL:https://kirtlandforcesupport.com/event/2-tuesdays/2026-04-28/
LOCATION:Bowling Center\, 3C4V+27 Albuquerque\, New Mexico
CATEGORIES:Bowling Center
ATTACH;FMTTYPE=image/jpeg:https://kirtlandforcesupport.com/wp-content/uploads/2024/06/2-tuesdays.jpg
END:VEVENT
BEGIN:VEVENT
DTSTART;TZID=UTC:20260428T171500
DTEND;TZID=UTC:20260428T184500
DTSTAMP:20260421T124911
CREATED:20260406T172156Z
LAST-MODIFIED:20260406T172156Z
UID:10002412-1777396500-1777401900@kirtlandforcesupport.com
SUMMARY:Intro to Candle Making
DESCRIPTION:Registration (505.853.3003) required at least (1) business day before class. Payment due at registration.  Class credit only for cancellation.  No refunds.  \n$20  Ages 18+ Candle wax is paraffin.  Containers are provided\, however\, participants are encouraged to upcycle their own metal\, glass and ceramic containers into unique candles.  Shot glasses are great!
URL:https://kirtlandforcesupport.com/event/intro-to-candle-making/2026-04-28/2/
LOCATION:Arts & Crafts Center\, 8001 Gibson Boulevard Southeast BLDG 20170\, Kirtland AFB\, NM 87117
CATEGORIES:Arts & Crafts Center
ATTACH;FMTTYPE=image/jpeg:https://kirtlandforcesupport.com/wp-content/uploads/2026/04/Untitled-1.jpeg
END:VEVENT
BEGIN:VEVENT
DTSTART;TZID=UTC:20260429T130000
DTEND;TZID=UTC:20260429T180000
DTSTAMP:20260421T124911
CREATED:20240613T161300Z
LAST-MODIFIED:20260107T201759Z
UID:10001446-1777467600-1777485600@kirtlandforcesupport.com
SUMMARY:P3 Special: Pizza\, Pop & Pins
DESCRIPTION:$30\nIncludes 4 pair of shoes\, 1 hour of bowling\, 4 fountain drinks\, and one-topping pizza.
URL:https://kirtlandforcesupport.com/event/p3-special-pins-pizza-pop/2026-04-29/
LOCATION:Bowling Center\, 3C4V+27 Albuquerque\, New Mexico
CATEGORIES:Bowling Center
ATTACH;FMTTYPE=image/png:https://kirtlandforcesupport.com/wp-content/uploads/2024/06/Untitled-2.png
END:VEVENT
BEGIN:VEVENT
DTSTART;TZID=UTC:20260501T180000
DTEND;TZID=UTC:20260501T210000
DTSTAMP:20260421T124911
CREATED:20240613T162324Z
LAST-MODIFIED:20260106T225728Z
UID:10001447-1777658400-1777669200@kirtlandforcesupport.com
SUMMARY:Cosmic Bowling
DESCRIPTION:$25/hr\nWe turn the lights off\, turn the black lights on\, and the music up! Join us every Friday and Saturday night for out-of-this-world fun!
URL:https://kirtlandforcesupport.com/event/cosmic-bowling/2026-05-01/
LOCATION:Bowling Center\, 3C4V+27 Albuquerque\, New Mexico
CATEGORIES:Bowling Center
ATTACH;FMTTYPE=image/jpeg:https://kirtlandforcesupport.com/wp-content/uploads/2024/06/cosmic-bowling.jpg
END:VEVENT
BEGIN:VEVENT
DTSTART;TZID=UTC:20260502T180000
DTEND;TZID=UTC:20260502T210000
DTSTAMP:20260421T124911
CREATED:20240613T162324Z
LAST-MODIFIED:20260106T225728Z
UID:10001448-1777744800-1777755600@kirtlandforcesupport.com
SUMMARY:Cosmic Bowling
DESCRIPTION:$25/hr\nWe turn the lights off\, turn the black lights on\, and the music up! Join us every Friday and Saturday night for out-of-this-world fun!
URL:https://kirtlandforcesupport.com/event/cosmic-bowling/2026-05-02/
LOCATION:Bowling Center\, 3C4V+27 Albuquerque\, New Mexico
CATEGORIES:Bowling Center
ATTACH;FMTTYPE=image/jpeg:https://kirtlandforcesupport.com/wp-content/uploads/2024/06/cosmic-bowling.jpg
END:VEVENT
BEGIN:VEVENT
DTSTART;TZID=UTC:20260503T130000
DTEND;TZID=UTC:20260503T190000
DTSTAMP:20260421T124911
CREATED:20240613T150119Z
LAST-MODIFIED:20260107T202953Z
UID:10001487-1777813200-1777834800@kirtlandforcesupport.com
SUMMARY:Family Funday Sunday
DESCRIPTION:$30/Family of 4\nIncludes 4 pair of shoes\, 1 hour of bowling\, 4 fountain drinks\, and 1-topping pizza!\n3C4V+27 Albuquerque\, New Mexico
URL:https://kirtlandforcesupport.com/event/family-funday-sunday/2026-05-03/
LOCATION:Bowling Center\, 3C4V+27 Albuquerque\, New Mexico
CATEGORIES:Bowling Center
ATTACH;FMTTYPE=image/png:https://kirtlandforcesupport.com/wp-content/uploads/2024/06/Untitled-5.png
END:VEVENT
BEGIN:VEVENT
DTSTART;TZID=UTC:20260505T130000
DTEND;TZID=UTC:20260505T143000
DTSTAMP:20260421T124911
CREATED:20260406T172347Z
LAST-MODIFIED:20260406T172347Z
UID:10002413-1777986000-1777991400@kirtlandforcesupport.com
SUMMARY:Intro to Polymer Clay Jewelry and Sculpture
DESCRIPTION:$20/$25 parent + teen   Ages (12+) Sculpture\, jewelry and More!  Think “Play-doh” but for adults! \nRegistration (505.853.3003) required at least (1) business day before class. Payment due at registration.  Class credit only for cancellation.  No refunds. 
URL:https://kirtlandforcesupport.com/event/intro-to-polymer-clay-jewelry-and-sculpture/2026-05-05/1/
LOCATION:Arts & Crafts Center\, 8001 Gibson Boulevard Southeast BLDG 20170\, Kirtland AFB\, NM 87117
CATEGORIES:Arts & Crafts Center
ATTACH;FMTTYPE=image/jpeg:https://kirtlandforcesupport.com/wp-content/uploads/2026/04/Untitled-1.jpeg
END:VEVENT
BEGIN:VEVENT
DTSTART;TZID=UTC:20260505T150000
DTEND;TZID=UTC:20260505T210000
DTSTAMP:20260421T124911
CREATED:20240613T150531Z
LAST-MODIFIED:20260106T202454Z
UID:10001488-1777993200-1778014800@kirtlandforcesupport.com
SUMMARY:$2 Tuesdays
DESCRIPTION:Every Tue after 3 p.m.\, $2 per game\n$2 shoe rental
URL:https://kirtlandforcesupport.com/event/2-tuesdays/2026-05-05/
LOCATION:Bowling Center\, 3C4V+27 Albuquerque\, New Mexico
CATEGORIES:Bowling Center
ATTACH;FMTTYPE=image/jpeg:https://kirtlandforcesupport.com/wp-content/uploads/2024/06/2-tuesdays.jpg
END:VEVENT
BEGIN:VEVENT
DTSTART;TZID=UTC:20260505T171500
DTEND;TZID=UTC:20260505T184500
DTSTAMP:20260421T124911
CREATED:20260406T172347Z
LAST-MODIFIED:20260406T172347Z
UID:10002414-1778001300-1778006700@kirtlandforcesupport.com
SUMMARY:Intro to Polymer Clay Jewelry and Sculpture
DESCRIPTION:$20/$25 parent + teen   Ages (12+) Sculpture\, jewelry and More!  Think “Play-doh” but for adults! \nRegistration (505.853.3003) required at least (1) business day before class. Payment due at registration.  Class credit only for cancellation.  No refunds. 
URL:https://kirtlandforcesupport.com/event/intro-to-polymer-clay-jewelry-and-sculpture/2026-05-05/2/
LOCATION:Arts & Crafts Center\, 8001 Gibson Boulevard Southeast BLDG 20170\, Kirtland AFB\, NM 87117
CATEGORIES:Arts & Crafts Center
ATTACH;FMTTYPE=image/jpeg:https://kirtlandforcesupport.com/wp-content/uploads/2026/04/Untitled-1.jpeg
END:VEVENT
BEGIN:VEVENT
DTSTART;TZID=UTC:20260506T130000
DTEND;TZID=UTC:20260506T180000
DTSTAMP:20260421T124911
CREATED:20240613T161300Z
LAST-MODIFIED:20260107T201759Z
UID:10001489-1778072400-1778090400@kirtlandforcesupport.com
SUMMARY:P3 Special: Pizza\, Pop & Pins
DESCRIPTION:$30\nIncludes 4 pair of shoes\, 1 hour of bowling\, 4 fountain drinks\, and one-topping pizza.
URL:https://kirtlandforcesupport.com/event/p3-special-pins-pizza-pop/2026-05-06/
LOCATION:Bowling Center\, 3C4V+27 Albuquerque\, New Mexico
CATEGORIES:Bowling Center
ATTACH;FMTTYPE=image/png:https://kirtlandforcesupport.com/wp-content/uploads/2024/06/Untitled-2.png
END:VEVENT
BEGIN:VEVENT
DTSTART;TZID=UTC:20260508T180000
DTEND;TZID=UTC:20260508T210000
DTSTAMP:20260421T124911
CREATED:20240613T162324Z
LAST-MODIFIED:20260106T225728Z
UID:10001490-1778263200-1778274000@kirtlandforcesupport.com
SUMMARY:Cosmic Bowling
DESCRIPTION:$25/hr\nWe turn the lights off\, turn the black lights on\, and the music up! Join us every Friday and Saturday night for out-of-this-world fun!
URL:https://kirtlandforcesupport.com/event/cosmic-bowling/2026-05-08/
LOCATION:Bowling Center\, 3C4V+27 Albuquerque\, New Mexico
CATEGORIES:Bowling Center
ATTACH;FMTTYPE=image/jpeg:https://kirtlandforcesupport.com/wp-content/uploads/2024/06/cosmic-bowling.jpg
END:VEVENT
BEGIN:VEVENT
DTSTART;TZID=UTC:20260509T180000
DTEND;TZID=UTC:20260509T210000
DTSTAMP:20260421T124911
CREATED:20240613T162324Z
LAST-MODIFIED:20260106T225728Z
UID:10001905-1778349600-1778360400@kirtlandforcesupport.com
SUMMARY:Cosmic Bowling
DESCRIPTION:$25/hr\nWe turn the lights off\, turn the black lights on\, and the music up! Join us every Friday and Saturday night for out-of-this-world fun!
URL:https://kirtlandforcesupport.com/event/cosmic-bowling/2026-05-09/
LOCATION:Bowling Center\, 3C4V+27 Albuquerque\, New Mexico
CATEGORIES:Bowling Center
ATTACH;FMTTYPE=image/jpeg:https://kirtlandforcesupport.com/wp-content/uploads/2024/06/cosmic-bowling.jpg
END:VEVENT
BEGIN:VEVENT
DTSTART;TZID=UTC:20260510T130000
DTEND;TZID=UTC:20260510T190000
DTSTAMP:20260421T124911
CREATED:20240613T150119Z
LAST-MODIFIED:20260107T202953Z
UID:10001906-1778418000-1778439600@kirtlandforcesupport.com
SUMMARY:Family Funday Sunday
DESCRIPTION:$30/Family of 4\nIncludes 4 pair of shoes\, 1 hour of bowling\, 4 fountain drinks\, and 1-topping pizza!\n3C4V+27 Albuquerque\, New Mexico
URL:https://kirtlandforcesupport.com/event/family-funday-sunday/2026-05-10/
LOCATION:Bowling Center\, 3C4V+27 Albuquerque\, New Mexico
CATEGORIES:Bowling Center
ATTACH;FMTTYPE=image/png:https://kirtlandforcesupport.com/wp-content/uploads/2024/06/Untitled-5.png
END:VEVENT
BEGIN:VEVENT
DTSTART;TZID=UTC:20260512T150000
DTEND;TZID=UTC:20260512T210000
DTSTAMP:20260421T124911
CREATED:20240613T150531Z
LAST-MODIFIED:20260106T202454Z
UID:10001907-1778598000-1778619600@kirtlandforcesupport.com
SUMMARY:$2 Tuesdays
DESCRIPTION:Every Tue after 3 p.m.\, $2 per game\n$2 shoe rental
URL:https://kirtlandforcesupport.com/event/2-tuesdays/2026-05-12/
LOCATION:Bowling Center\, 3C4V+27 Albuquerque\, New Mexico
CATEGORIES:Bowling Center
ATTACH;FMTTYPE=image/jpeg:https://kirtlandforcesupport.com/wp-content/uploads/2024/06/2-tuesdays.jpg
END:VEVENT
END:VCALENDAR